BEGIN:VCALENDAR
VERSION:2.0
PRODID:-//Iván García  - ECPv5.14.1//NONSGML v1.0//EN
CALSCALE:GREGORIAN
METHOD:PUBLISH
X-WR-CALNAME:Iván García 
X-ORIGINAL-URL:https://ivangarciapercu.com
X-WR-CALDESC:Eventos para Iván García 
REFRESH-INTERVAL;VALUE=DURATION:PT1H
X-Robots-Tag:noindex
X-PUBLISHED-TTL:PT1H
BEGIN:VTIMEZONE
TZID:UTC
BEGIN:STANDARD
TZOFFSETFROM:+0000
TZOFFSETTO:+0000
TZNAME:UTC
DTSTART:20220101T000000
END:STANDARD
END:VTIMEZONE
BEGIN:VEVENT
DTSTART;TZID=UTC:20221127T100000
DTEND;TZID=UTC:20221127T100000
DTSTAMP:20260421T035833
CREATED:20220918T111122Z
LAST-MODIFIED:20220918T111122Z
UID:464-1669543200-1669543200@ivangarciapercu.com
SUMMARY:West Side Story
DESCRIPTION:
URL:https://ivangarciapercu.com/event/west-side-story/
LOCATION:ADDA\, Avinguda de Jijona\, 5\, Alicante\, Alicante\, 03010\, España
END:VEVENT
END:VCALENDAR