BEGIN:VCALENDAR
VERSION:2.0
PRODID:-//Iván García  - ECPv5.14.1//NONSGML v1.0//EN
CALSCALE:GREGORIAN
METHOD:PUBLISH
X-WR-CALNAME:Iván García 
X-ORIGINAL-URL:https://ivangarciapercu.com
X-WR-CALDESC:Eventos para Iván García 
REFRESH-INTERVAL;VALUE=DURATION:PT1H
X-Robots-Tag:noindex
X-PUBLISHED-TTL:PT1H
BEGIN:VTIMEZONE
TZID:UTC
BEGIN:STANDARD
TZOFFSETFROM:+0000
TZOFFSETTO:+0000
TZNAME:UTC
DTSTART:20220101T000000
END:STANDARD
END:VTIMEZONE
BEGIN:VEVENT
DTSTART;TZID=UTC:20220521T200000
DTEND;TZID=UTC:20220521T220000
DTSTAMP:20260421T151406
CREATED:20220421T192057Z
LAST-MODIFIED:20220421T192130Z
UID:221-1653163200-1653170400@ivangarciapercu.com
SUMMARY:Jazz Band Elx
DESCRIPTION:
URL:https://ivangarciapercu.com/event/jazz-band-elx/
LOCATION:Formentera del Segura
END:VEVENT
END:VCALENDAR