BEGIN:VCALENDAR
VERSION:2.0
PRODID:-//Iván García  - ECPv5.14.1//NONSGML v1.0//EN
CALSCALE:GREGORIAN
METHOD:PUBLISH
X-WR-CALNAME:Iván García 
X-ORIGINAL-URL:https://ivangarciapercu.com
X-WR-CALDESC:Eventos para Iván García 
REFRESH-INTERVAL;VALUE=DURATION:PT1H
X-Robots-Tag:noindex
X-PUBLISHED-TTL:PT1H
BEGIN:VTIMEZONE
TZID:UTC
BEGIN:STANDARD
TZOFFSETFROM:+0000
TZOFFSETTO:+0000
TZNAME:UTC
DTSTART:20220101T000000
END:STANDARD
END:VTIMEZONE
BEGIN:VEVENT
DTSTART;VALUE=DATE:20220507
DTEND;VALUE=DATE:20220508
DTSTAMP:20260421T151137
CREATED:20220421T191932Z
LAST-MODIFIED:20220421T191932Z
UID:219-1651881600-1651967999@ivangarciapercu.com
SUMMARY:Masterclass Conservatorio Profesional "Maestro Gómez Villa" de Cieza
DESCRIPTION:
URL:https://ivangarciapercu.com/event/masterclass-conservatorio-profesional-maestro-gomez-villa-de-cieza/
LOCATION:Alicante
END:VEVENT
END:VCALENDAR